BEGIN:VCALENDAR
VERSION:2.0
PRODID:-//Great Milton Parish Council//Meeting Calendar//EN
CALSCALE:GREGORIAN
METHOD:PUBLISH
BEGIN:VEVENT
UID:70422-20240219@greatmilton-pc.gov.uk
DTSTAMP:20260424T081840Z
DTSTART;VALUE=DATE:20240219
DTEND;VALUE=DATE:20240220
SUMMARY:Council Meeting &#8211\\; 19th February 2024
DESCRIPTION:Full Council Meeting\nView details: https://greatmilton-pc.gov.uk/meetings/council-meeting-19th-february-2024/
URL:https://greatmilton-pc.gov.uk/meetings/council-meeting-19th-february-2024/
END:VEVENT
END:VCALENDAR
