BEGIN:VCALENDAR
VERSION:2.0
PRODID:-//Great Milton Parish Council//Meeting Calendar//EN
CALSCALE:GREGORIAN
METHOD:PUBLISH
BEGIN:VEVENT
UID:70428-20240318@greatmilton-pc.gov.uk
DTSTAMP:20260424T094902Z
DTSTART;VALUE=DATE:20240318
DTEND;VALUE=DATE:20240319
SUMMARY:Council Meeting &#8211\\; 18th March 2024
DESCRIPTION:Full Council Meeting\nView details: https://greatmilton-pc.gov.uk/meetings/council-meeting-18th-march-2024/
URL:https://greatmilton-pc.gov.uk/meetings/council-meeting-18th-march-2024/
END:VEVENT
END:VCALENDAR
