BEGIN:VCALENDAR
VERSION:2.0
PRODID:-//Great Milton Parish Council//Meeting Calendar//EN
CALSCALE:GREGORIAN
METHOD:PUBLISH
BEGIN:VEVENT
UID:70441-20240520@greatmilton-pc.gov.uk
DTSTAMP:20260424T094621Z
DTSTART;VALUE=DATE:20240520
DTEND;VALUE=DATE:20240521
SUMMARY:Council Meeting &#8211\\; 20th May 2024
DESCRIPTION:Full Council Meeting\nView details: https://greatmilton-pc.gov.uk/meetings/council-meeting-20th-may-2024/
URL:https://greatmilton-pc.gov.uk/meetings/council-meeting-20th-may-2024/
END:VEVENT
END:VCALENDAR
