BEGIN:VCALENDAR
VERSION:2.0
PRODID:-//Great Milton Parish Council//Meeting Calendar//EN
CALSCALE:GREGORIAN
METHOD:PUBLISH
BEGIN:VEVENT
UID:70497-20230417@greatmilton-pc.gov.uk
DTSTAMP:20260420T062939Z
DTSTART;VALUE=DATE:20230417
DTEND;VALUE=DATE:20230418
SUMMARY:Annual Council Meeting &#8211\\; 17th April 2023
DESCRIPTION:Annual Meeting\nView details: https://greatmilton-pc.gov.uk/meetings/annual-council-meeting-17th-april-2023/
URL:https://greatmilton-pc.gov.uk/meetings/annual-council-meeting-17th-april-2023/
END:VEVENT
END:VCALENDAR
