BEGIN:VCALENDAR
VERSION:2.0
PRODID:-//Great Milton Parish Council//Meeting Calendar//EN
CALSCALE:GREGORIAN
METHOD:PUBLISH
BEGIN:VEVENT
UID:70535-20220413@greatmilton-pc.gov.uk
DTSTAMP:20260422T085223Z
DTSTART;VALUE=DATE:20220413
DTEND;VALUE=DATE:20220414
SUMMARY:Annual Council Meeting &#8211\\; 19th April 2022
DESCRIPTION:Annual Meeting\nView details: https://greatmilton-pc.gov.uk/meetings/annual-council-meeting-19th-april-2022/
URL:https://greatmilton-pc.gov.uk/meetings/annual-council-meeting-19th-april-2022/
END:VEVENT
END:VCALENDAR
