BEGIN:VCALENDAR
VERSION:2.0
PRODID:-//Great Milton Parish Council//Meeting Calendar//EN
CALSCALE:GREGORIAN
METHOD:PUBLISH
BEGIN:VEVENT
UID:70540-20220516@greatmilton-pc.gov.uk
DTSTAMP:20260420T062746Z
DTSTART;VALUE=DATE:20220516
DTEND;VALUE=DATE:20220517
SUMMARY:Annual Council Meeting &#8211\\; 16th May 2022
DESCRIPTION:Annual Meeting\nView details: https://greatmilton-pc.gov.uk/meetings/annual-council-meeting-16th-may-2022/
URL:https://greatmilton-pc.gov.uk/meetings/annual-council-meeting-16th-may-2022/
END:VEVENT
END:VCALENDAR
