BEGIN:VCALENDAR
VERSION:2.0
PRODID:-//Great Milton Parish Council//Meeting Calendar//EN
CALSCALE:GREGORIAN
METHOD:PUBLISH
BEGIN:VEVENT
UID:70582-20210421@greatmilton-pc.gov.uk
DTSTAMP:20260422T085407Z
DTSTART;VALUE=DATE:20210421
DTEND;VALUE=DATE:20210422
SUMMARY:Annual Council Meeting &#8211\\; 26th April 2021
DESCRIPTION:Annual Meeting\nView details: https://greatmilton-pc.gov.uk/meetings/annual-council-meeting-26th-april-2021/
URL:https://greatmilton-pc.gov.uk/meetings/annual-council-meeting-26th-april-2021/
END:VEVENT
END:VCALENDAR
