BEGIN:VCALENDAR
VERSION:2.0
PRODID:-//Great Milton Parish Council//Meeting Calendar//EN
CALSCALE:GREGORIAN
METHOD:PUBLISH
BEGIN:VEVENT
UID:70586-20210505@greatmilton-pc.gov.uk
DTSTAMP:20260422T091517Z
DTSTART;VALUE=DATE:20210505
DTEND;VALUE=DATE:20210506
SUMMARY:Annual Council Meeting &#8211\\; 5th May 2021
DESCRIPTION:Annual Meeting\nView details: https://greatmilton-pc.gov.uk/meetings/annual-council-meeting-5th-may-2021/
URL:https://greatmilton-pc.gov.uk/meetings/annual-council-meeting-5th-may-2021/
END:VEVENT
END:VCALENDAR
