BEGIN:VCALENDAR
VERSION:2.0
PRODID:-//Great Milton Parish Council//Meeting Calendar//EN
CALSCALE:GREGORIAN
METHOD:PUBLISH
BEGIN:VEVENT
UID:70785-20240710@greatmilton-pc.gov.uk
DTSTAMP:20260424T094906Z
DTSTART;VALUE=DATE:20240710
DTEND;VALUE=DATE:20240711
SUMMARY:Parish Council Meeting &#8211\\; 10th July 2024
DESCRIPTION:Full Council Meeting\nView details: https://greatmilton-pc.gov.uk/meetings/meeting-name-here/
URL:https://greatmilton-pc.gov.uk/meetings/meeting-name-here/
END:VEVENT
END:VCALENDAR
