BEGIN:VCALENDAR
VERSION:2.0
PRODID:-//Great Milton Parish Council//Meeting Calendar//EN
CALSCALE:GREGORIAN
METHOD:PUBLISH
BEGIN:VEVENT
UID:70800-20250120@greatmilton-pc.gov.uk
DTSTAMP:20260424T094806Z
DTSTART;VALUE=DATE:20250120
DTEND;VALUE=DATE:20250121
SUMMARY:Parish Council Meeting &#8211\\; 20th January 2025
DESCRIPTION:Full Council Meeting\nView details: https://greatmilton-pc.gov.uk/meetings/full-council-meeting-20th-january-2025/
URL:https://greatmilton-pc.gov.uk/meetings/full-council-meeting-20th-january-2025/
END:VEVENT
END:VCALENDAR
