BEGIN:VCALENDAR
VERSION:2.0
PRODID:-//Great Milton Parish Council//Meeting Calendar//EN
CALSCALE:GREGORIAN
METHOD:PUBLISH
BEGIN:VEVENT
UID:70819-20241022@greatmilton-pc.gov.uk
DTSTAMP:20260424T111716Z
DTSTART;VALUE=DATE:20241022
DTEND;VALUE=DATE:20241023
SUMMARY:Parish Council Meeting &#8211\\; 22nd October 2024
DESCRIPTION:Full Council Meeting\nView details: https://greatmilton-pc.gov.uk/meetings/meeting-name-here-6/
URL:https://greatmilton-pc.gov.uk/meetings/meeting-name-here-6/
END:VEVENT
END:VCALENDAR
