BEGIN:VCALENDAR
VERSION:2.0
PRODID:-//Great Milton Parish Council//Meeting Calendar//EN
CALSCALE:GREGORIAN
METHOD:PUBLISH
BEGIN:VEVENT
UID:70883-20250217@greatmilton-pc.gov.uk
DTSTAMP:20260424T094616Z
DTSTART;VALUE=DATE:20250217
DTEND;VALUE=DATE:20250218
SUMMARY:Parish Council Meeting &#8211\\; 17th February 2025
DESCRIPTION:Full Council Meeting\nView details: https://greatmilton-pc.gov.uk/meetings/parish-council-meeting-17th-february-2025/
URL:https://greatmilton-pc.gov.uk/meetings/parish-council-meeting-17th-february-2025/
END:VEVENT
END:VCALENDAR
