BEGIN:VCALENDAR
VERSION:2.0
PRODID:-//Great Milton Parish Council//Meeting Calendar//EN
CALSCALE:GREGORIAN
METHOD:PUBLISH
BEGIN:VEVENT
UID:70927-20250414@greatmilton-pc.gov.uk
DTSTAMP:20260424T081848Z
DTSTART;VALUE=DATE:20250414
DTEND;VALUE=DATE:20250415
SUMMARY:Parish Council Meeting &#8211\\; 14th April 2025
DESCRIPTION:Full Council Meeting\nView details: https://greatmilton-pc.gov.uk/meetings/parish-council-meeting-14th-april-2025/
URL:https://greatmilton-pc.gov.uk/meetings/parish-council-meeting-14th-april-2025/
END:VEVENT
END:VCALENDAR
