BEGIN:VCALENDAR
VERSION:2.0
PRODID:-//Great Milton Parish Council//Meeting Calendar//EN
CALSCALE:GREGORIAN
METHOD:PUBLISH
BEGIN:VEVENT
UID:70932-20250331@greatmilton-pc.gov.uk
DTSTAMP:20260424T094730Z
DTSTART;VALUE=DATE:20250331
DTEND;VALUE=DATE:20250401
SUMMARY:Public Meeting &#8211\\; 31st March 2025
DESCRIPTION:Full Council Meeting\nView details: https://greatmilton-pc.gov.uk/meetings/public-meeting-31st-march-2025/
URL:https://greatmilton-pc.gov.uk/meetings/public-meeting-31st-march-2025/
END:VEVENT
END:VCALENDAR
