BEGIN:VCALENDAR
VERSION:2.0
PRODID:-//Great Milton Parish Council//Meeting Calendar//EN
CALSCALE:GREGORIAN
METHOD:PUBLISH
BEGIN:VEVENT
UID:70967-20250519@greatmilton-pc.gov.uk
DTSTAMP:20260420T062746Z
DTSTART;VALUE=DATE:20250519
DTEND;VALUE=DATE:20250520
SUMMARY:Annual Parish Council Meeting &#8211\\; 19th May 2025
DESCRIPTION:Annual Meeting\nView details: https://greatmilton-pc.gov.uk/meetings/annual-parish-council-meeting-19th-may-2025/
URL:https://greatmilton-pc.gov.uk/meetings/annual-parish-council-meeting-19th-may-2025/
END:VEVENT
END:VCALENDAR
