BEGIN:VCALENDAR
VERSION:2.0
PRODID:-//Great Milton Parish Council//Meeting Calendar//EN
CALSCALE:GREGORIAN
METHOD:PUBLISH
BEGIN:VEVENT
UID:71014-20250616@greatmilton-pc.gov.uk
DTSTAMP:20260424T084302Z
DTSTART;VALUE=DATE:20250616
DTEND;VALUE=DATE:20250617
SUMMARY:Parish Council Meeting &#8211\\; 16th June 2025
DESCRIPTION:Full Council Meeting\nView details: https://greatmilton-pc.gov.uk/meetings/parish-council-meeting-16th-june-2025/
URL:https://greatmilton-pc.gov.uk/meetings/parish-council-meeting-16th-june-2025/
END:VEVENT
END:VCALENDAR
