BEGIN:VCALENDAR
VERSION:2.0
PRODID:-//Great Milton Parish Council//Meeting Calendar//EN
CALSCALE:GREGORIAN
METHOD:PUBLISH
BEGIN:VEVENT
UID:71036-20250711@greatmilton-pc.gov.uk
DTSTAMP:20260424T081823Z
DTSTART;VALUE=DATE:20250711
DTEND;VALUE=DATE:20250712
SUMMARY:Extraordinary Meeting of the Parish Council &#8211\\; 11th July
DESCRIPTION:Full Council Meeting\nView details: https://greatmilton-pc.gov.uk/meetings/extraordinary-meeting-of-the-parish-council-11th-july/
URL:https://greatmilton-pc.gov.uk/meetings/extraordinary-meeting-of-the-parish-council-11th-july/
END:VEVENT
END:VCALENDAR
