BEGIN:VCALENDAR
VERSION:2.0
PRODID:-//Great Milton Parish Council//Meeting Calendar//EN
CALSCALE:GREGORIAN
METHOD:PUBLISH
BEGIN:VEVENT
UID:71077-20250915@greatmilton-pc.gov.uk
DTSTAMP:20260422T085402Z
DTSTART;VALUE=DATE:20250915
DTEND;VALUE=DATE:20250916
SUMMARY:Parish Council Meeting &#8211\\; 15th September 2025
DESCRIPTION:Full Council Meeting\nView details: https://greatmilton-pc.gov.uk/meetings/parish-council-meeting-15th-september-2025/
URL:https://greatmilton-pc.gov.uk/meetings/parish-council-meeting-15th-september-2025/
END:VEVENT
END:VCALENDAR
