BEGIN:VCALENDAR
VERSION:2.0
PRODID:-//Great Milton Parish Council//Meeting Calendar//EN
CALSCALE:GREGORIAN
METHOD:PUBLISH
BEGIN:VEVENT
UID:71087-20251013@greatmilton-pc.gov.uk
DTSTAMP:20260422T085233Z
DTSTART;VALUE=DATE:20251013
DTEND;VALUE=DATE:20251014
SUMMARY:Parish Council Meeting &#8211\\; 13th October 2025
DESCRIPTION:Full Council Meeting\nView details: https://greatmilton-pc.gov.uk/meetings/parish-council-meeting-13th-october/
URL:https://greatmilton-pc.gov.uk/meetings/parish-council-meeting-13th-october/
END:VEVENT
END:VCALENDAR
