BEGIN:VCALENDAR
VERSION:2.0
PRODID:-//Great Milton Parish Council//Meeting Calendar//EN
CALSCALE:GREGORIAN
METHOD:PUBLISH
BEGIN:VEVENT
UID:71158-20260223@greatmilton-pc.gov.uk
DTSTAMP:20260420T064549Z
DTSTART;VALUE=DATE:20260223
DTEND;VALUE=DATE:20260224
SUMMARY:Parish Council Meeting &#8211\\; 23rd February 2026
DESCRIPTION:Full Council Meeting\nView details: https://greatmilton-pc.gov.uk/meetings/parish-council-meeting-16th-february-2026/
URL:https://greatmilton-pc.gov.uk/meetings/parish-council-meeting-16th-february-2026/
END:VEVENT
END:VCALENDAR
