BEGIN:VCALENDAR
VERSION:2.0
PRODID:-//Great Milton Parish Council//Meeting Calendar//EN
CALSCALE:GREGORIAN
METHOD:PUBLISH
BEGIN:VEVENT
UID:72538-20260316@greatmilton-pc.gov.uk
DTSTAMP:20260420T043938Z
DTSTART;VALUE=DATE:20260316
DTEND;VALUE=DATE:20260317
SUMMARY:Parish Council Meeting &#8211\\; 16th March 2026
DESCRIPTION:Full Council Meeting\nView details: https://greatmilton-pc.gov.uk/meetings/parish-council-meeting-16th-march-2026/
URL:https://greatmilton-pc.gov.uk/meetings/parish-council-meeting-16th-march-2026/
END:VEVENT
END:VCALENDAR
