BEGIN:VCALENDAR
VERSION:2.0
PRODID:-//Great Milton Parish Council//Meeting Calendar//EN
CALSCALE:GREGORIAN
METHOD:PUBLISH
BEGIN:VEVENT
UID:72548-20260420@greatmilton-pc.gov.uk
DTSTAMP:20260420T023915Z
DTSTART;VALUE=DATE:20260420
DTEND;VALUE=DATE:20260421
SUMMARY:Parish Council Meeting &#8211\\; 20th April 2026
DESCRIPTION:Full Council Meeting\nView details: https://greatmilton-pc.gov.uk/meetings/parish-council-meeting-20th-april-2026/
URL:https://greatmilton-pc.gov.uk/meetings/parish-council-meeting-20th-april-2026/
END:VEVENT
END:VCALENDAR
